BEGIN:VCALENDAR
VERSION:2.0
PRODID:-//Farm Collaborative - ECPv6.15.14//NONSGML v1.0//EN
CALSCALE:GREGORIAN
METHOD:PUBLISH
X-ORIGINAL-URL:https://thefarmcollaborative.org
X-WR-CALDESC:Events for Farm Collaborative
REFRESH-INTERVAL;VALUE=DURATION:PT1H
X-Robots-Tag:noindex
X-PUBLISHED-TTL:PT1H
BEGIN:VTIMEZONE
TZID:UTC
BEGIN:STANDARD
TZOFFSETFROM:+0000
TZOFFSETTO:+0000
TZNAME:UTC
DTSTART:20240101T000000
END:STANDARD
END:VTIMEZONE
BEGIN:VEVENT
DTSTART;TZID=UTC:20250801T080000
DTEND;TZID=UTC:20250831T170000
DTSTAMP:20260423T090248
CREATED:20260112T141608Z
LAST-MODIFIED:20260121T161326Z
UID:10000001-1754035200-1756659600@thefarmcollaborative.org
SUMMARY:Regeneration Ball
DESCRIPTION:This annual fundraiser\, typically held in August\, features a seven-course dinner prepared by Michelin-starred and James Beard-recognized chefs using locally sourced ingredients and inspiring special guests. The event also includes an auction and paddle raise\, with proceeds supporting the Farm Collaborative’s mission and projects\, including a capital campaign for a new regenerative agriculture center at Cozy Point Ranch.\n\nInterested in becoming a corporate sponsor?\n\nPast Corporate Sponsors
URL:https://thefarmcollaborative.org/event/regeneration-ball/
CATEGORIES:Featured Event
ATTACH;FMTTYPE=image/webp:https://thefarmcollaborative.org/wp-content/uploads/2026/01/banner-1-6.webp
END:VEVENT
END:VCALENDAR